{
 "currentVersion": 11.3,
 "serviceDescription": "Servicio de imágenes actualizado automáticamente",
 "name": "Siniestralidad/kernel_density_map",
 "description": "Servicio de imágenes actualizado automáticamente",
 "extent": {
  "xmin": -74.19611134014797,
  "ymin": 4.479832210852074,
  "xmax": -74.02191776785196,
  "ymax": 4.820585374188083,
  "spatialReference": {
   "wkid": 4686,
   "latestWkid": 4686
  }
 },
 "initialExtent": {
  "xmin": -74.19611134014797,
  "ymin": 4.479832210852074,
  "xmax": -74.02191776785196,
  "ymax": 4.820585374188083,
  "spatialReference": {
   "wkid": 4686,
   "latestWkid": 4686
  }
 },
 "fullExtent": {
  "xmin": -74.19611134014797,
  "ymin": 4.479832210852074,
  "xmax": -74.02191776785196,
  "ymax": 4.820585374188083,
  "spatialReference": {
   "wkid": 4686,
   "latestWkid": 4686
  }
 },
 "sortableFields": "",
 "bandCount": 1,
 "pixelType": "F32",
 "minValues": [
  0
 ],
 "maxValues": [
  2211621.75
 ],
 "meanValues": [
  197091.088682024
 ],
 "stdvValues": [
  307118.16486935527
 ],
 "hasMultidimensions": false,
 "pixelSizeX": 6.939982960000202E-4,
 "pixelSizeY": 6.939982960000184E-4,
 "meanPixelSize": 77.25553692212169,
 "datasetFormat": "FGDBR",
 "uncompressedSize": 492964,
 "blockWidth": 128,
 "blockHeight": 128,
 "compressionType": "NONE",
 "bandNames": [
  "Band_1"
 ],
 "allowCopy": true,
 "allowAnalysis": true,
 "itemAccess": false,
 "inspectionCapabilities": "",
 "minPixelSize": 0,
 "maxPixelSize": 0,
 "copyrightText": "",
 "serviceDataType": "esriImageServiceDataTypeGeneric",
 "serviceSourceType": "esriImageServiceSourceTypeDataset",
 "objectIdField": "",
 "fields": [],
 "capabilities": "Image,Metadata,Mensuration",
 "defaultMosaicMethod": "Center",
 "allowedMosaicMethods": "",
 "sortField": "",
 "sortValue": null,
 "sortAscending": true,
 "mosaicOperator": "First",
 "maxDownloadSizeLimit": 2097196,
 "defaultCompressionQuality": 75,
 "defaultResamplingMethod": "Bilinear",
 "maxImageHeight": 4100,
 "maxImageWidth": 15000,
 "allowRasterFunction": true,
 "rasterFunctionInfos": [
  {
   "name": "None",
   "description": "",
   "help": ""
  }
 ],
 "rasterTypeInfos": [
  {
   "name": "Raster Dataset",
   "description": "Supports all ArcGIS Raster Datasets",
   "help": ""
  }
 ],
 "mensurationCapabilities": "Basic",
 "hasHistograms": true,
 "hasColormap": false,
 "hasRasterAttributeTable": false,
 "minScale": 0,
 "maxScale": 0,
 "exportTilesAllowed": false,
 "supportsStatistics": false,
 "supportsAdvancedQueries": false,
 "editFieldsInfo": null,
 "ownershipBasedAccessControlForRasters": null,
 "allowComputeTiePoints": false,
 "useStandardizedQueries": true,
 "advancedQueryCapabilities": {
  "useStandardizedQueries": true,
  "supportsStatistics": false,
  "supportsOrderBy": false,
  "supportsDistinct": false,
  "supportsPagination": false
 },
 "spatialReference": {
  "wkid": 4686,
  "latestWkid": 4686
 }
}
