View In:
ArcGIS JavaScript
ArcGIS Online Map Viewer
ArcGIS Earth
Service Description: Servicio de imágenes actualizado automáticamente
Name: Siniestralidad/kernel_density_map
Description: Servicio de imágenes actualizado automáticamente
Single Fused Map Cache: false
Extent:
XMin: -74.19611134014797
YMin: 4.479832210852074
XMax: -74.02191776785196
YMax: 4.820585374188083
Spatial Reference: 4686
(4686)
Initial Extent:
XMin: -74.19611134014797
YMin: 4.479832210852074
XMax: -74.02191776785196
YMax: 4.820585374188083
Spatial Reference: 4686
(4686)
Full Extent:
XMin: -74.19611134014797
YMin: 4.479832210852074
XMax: -74.02191776785196
YMax: 4.820585374188083
Spatial Reference: 4686
(4686)
Pixel Size X: 6.939982960000202E-4
Pixel Size Y: 6.939982960000184E-4
Band Count: 1
Pixel Type: F32
RasterFunction Infos: {"rasterFunctionInfos": [{
"name": "None",
"description": "",
"help": ""
}]}
Mensuration Capabilities: Basic
Inspection Capabilities:
Has Histograms: true
Has Colormap: false
Has Multi Dimensions : false
Rendering Rule:
Min Scale: 0
Max Scale: 0
Copyright Text:
Service Data Type: esriImageServiceDataTypeGeneric
Min Values: 0
Max Values: 2211621.75
Mean Values: 197091.088682024
Standard Deviation Values: 307118.16486935527
Object ID Field:
Fields:
None
Default Mosaic Method: Center
Allowed Mosaic Methods:
SortField:
SortValue: null
Mosaic Operator: First
Default Compression Quality: 75
Default Resampling Method: Bilinear
Max Record Count: null
Max Image Height: 4100
Max Image Width: 15000
Max Download Image Count: null
Max Mosaic Image Count: null
Allow Raster Function: true
Allow Copy: true
Allow Analysis: true
Allow Compute TiePoints: false
Supports Statistics: false
Supports Advanced Queries: false
Use StandardizedQueries: true
Raster Type Infos:
Name: Raster Dataset
Description: Supports all ArcGIS Raster Datasets
Help:
Has Raster Attribute Table: false
Edit Fields Info: null
Ownership Based AccessControl For Rasters: null
Child Resources:
Info
Histograms
Statistics
Key Properties
Legend
Raster Function Infos
Supported Operations:
Export Image
Identify
Measure
Compute Histograms
Compute Statistics Histograms
Get Samples
Compute Class Statistics
Query Boundary
Compute Pixel Location
Compute Angles
Validate
Project